BEGIN:VCALENDAR
VERSION:2.0
PRODID:-//https://izba-lekarska.org.pl///NONSGML kigkonsult.se iCalcreator 2.10.15//
METHOD:PUBLISH
BEGIN:VEVENT
UID:20260419T145435CEST-4877IIKdX2@https://izba-lekarska.org.pl/
DTSTAMP:20260419T125435Z
DESCRIPTION: https://izba-lekarska.org.pl/kalendarz-wydarzen/wydarzenie/100
 0-kurs-doskonalacy-prawo-pacjenta-do-informacji-o-stanie-zdrowia-oraz-zwia
 zane-z-nim-obowiazki-lekarza
DTSTART:20260318T160000Z
DTEND:20260318T190000Z
LOCATION:platforma e-learningowa ClickMeeting ()
SUMMARY:kurs doskonalący - Prawo pacjenta do informacji o stanie zdrowia or
 az związane z nim obowiązki lekarza
URL:https://izba-lekarska.org.pl/kalendarz-wydarzen/wydarzenie/1000-kurs-do
 skonalacy-prawo-pacjenta-do-informacji-o-stanie-zdrowia-oraz-zwiazane-z-ni
 m-obowiazki-lekarza
END:VEVENT
END:VCALENDAR
