BEGIN:VCALENDAR
VERSION:2.0
PRODID:-//https://izba-lekarska.org.pl///NONSGML kigkonsult.se iCalcreator 2.10.15//
METHOD:PUBLISH
BEGIN:VEVENT
UID:20260419T163244CEST-7517S4Vjh7@https://izba-lekarska.org.pl/
DTSTAMP:20260419T143244Z
DESCRIPTION: https://izba-lekarska.org.pl/kalendarz-wydarzen/wydarzenie/100
 1-kurs-doskonalacy-lekarz-w-sytuacji-konfliktu-narzedzia-skutecznej-komuni
 kacji-i-deeskalacji
DTSTART:20260321T090000Z
DTEND:20260321T130000Z
LOCATION:Śląska Izba Lekarska (40-126 Katowice\, ul. Grażyńskiego 49a)
SUMMARY:kurs doskonalący - Lekarz w sytuacji konfliktu – narzędzia skuteczn
 ej komunikacji i deeskalacji
URL:https://izba-lekarska.org.pl/kalendarz-wydarzen/wydarzenie/1001-kurs-do
 skonalacy-lekarz-w-sytuacji-konfliktu-narzedzia-skutecznej-komunikacji-i-d
 eeskalacji
END:VEVENT
END:VCALENDAR
