BEGIN:VCALENDAR
VERSION:2.0
PRODID:-//https://izba-lekarska.org.pl///NONSGML kigkonsult.se iCalcreator 2.10.15//
METHOD:PUBLISH
BEGIN:VEVENT
UID:20260419T181449CEST-5993KvaU5v@https://izba-lekarska.org.pl/
DTSTAMP:20260419T161449Z
DESCRIPTION: https://izba-lekarska.org.pl/kalendarz-wydarzen/wydarzenie/101
 2-posiedzenie-komisji-ksztalcenia
DTSTART:20260209T143000Z
DTEND:20260209T160000Z
LOCATION:Śląska Izba Lekarska (40-126 Katowice\, ul. Grażyńskiego 49a)
SUMMARY:Posiedzenie Komisji Kształcenia
URL:https://izba-lekarska.org.pl/kalendarz-wydarzen/wydarzenie/1012-posiedz
 enie-komisji-ksztalcenia
END:VEVENT
END:VCALENDAR
