BEGIN:VCALENDAR
VERSION:2.0
PRODID:-//https://izba-lekarska.org.pl///NONSGML kigkonsult.se iCalcreator 2.10.15//
METHOD:PUBLISH
BEGIN:VEVENT
UID:20260419T181618CEST-4888Loif6w@https://izba-lekarska.org.pl/
DTSTAMP:20260419T161618Z
DESCRIPTION: https://izba-lekarska.org.pl/kalendarz-wydarzen/wydarzenie/101
 3-dyzur-pelnomocnika-ds-lekarzy-z-niepelnosprawnosciami
DTSTART:20260131T120000Z
DTEND:20260131T140000Z
LOCATION:Śląska Izba Lekarska (40-126 Katowice\, ul. Grażyńskiego 49a)
SUMMARY:Dyżur Pełnomocnika ds. Lekarzy z Niepełnosprawnościami
URL:https://izba-lekarska.org.pl/kalendarz-wydarzen/wydarzenie/1013-dyzur-p
 elnomocnika-ds-lekarzy-z-niepelnosprawnosciami
END:VEVENT
END:VCALENDAR
