BEGIN:VCALENDAR
VERSION:2.0
PRODID:-//https://izba-lekarska.org.pl///NONSGML kigkonsult.se iCalcreator 2.10.15//
METHOD:PUBLISH
BEGIN:VEVENT
UID:20260421T205340CEST-8877T34Uil@https://izba-lekarska.org.pl/
DTSTAMP:20260421T185340Z
DESCRIPTION: https://izba-lekarska.org.pl/kalendarz-wydarzen/wydarzenie/102
 2-kurs-doskonalacy-usg-dzieci-w-gabinecie-lekarza-poz
DTSTART:20260327T160000Z
DTEND:20260328T180000Z
LOCATION:Śląska Izba Lekarska  ()
SUMMARY:kurs doskonalący - USG dzieci w gabinecie lekarza POZ
URL:https://izba-lekarska.org.pl/kalendarz-wydarzen/wydarzenie/1022-kurs-do
 skonalacy-usg-dzieci-w-gabinecie-lekarza-poz
END:VEVENT
END:VCALENDAR
