BEGIN:VCALENDAR
VERSION:2.0
PRODID:-//https://izba-lekarska.org.pl///NONSGML kigkonsult.se iCalcreator 2.10.15//
METHOD:PUBLISH
BEGIN:VEVENT
UID:20260419T143856CEST-9909aXABES@https://izba-lekarska.org.pl/
DTSTAMP:20260419T123856Z
DESCRIPTION: https://izba-lekarska.org.pl/kalendarz-wydarzen/wydarzenie/102
 9-konferencja-akademia-interny
DTSTART:20260321T080000Z
DTEND:20260321T141500Z
LOCATION:Aula A3 im. Prof. W. Zahorskiego Wydział Nauk Medycznych ŚUM  (uli
 ca Medyków 18\, 40-752\, Dz. Ligota\, Katowice\, Śląskie)
SUMMARY:Konferencja - Akademia Interny
URL:https://izba-lekarska.org.pl/kalendarz-wydarzen/wydarzenie/1029-konfere
 ncja-akademia-interny
END:VEVENT
END:VCALENDAR
