BEGIN:VCALENDAR
VERSION:2.0
PRODID:-//https://izba-lekarska.org.pl///NONSGML kigkonsult.se iCalcreator 2.10.15//
METHOD:PUBLISH
BEGIN:VEVENT
UID:20260419T181413CEST-8748b7bCe1@https://izba-lekarska.org.pl/
DTSTAMP:20260419T161413Z
DESCRIPTION: https://izba-lekarska.org.pl/kalendarz-wydarzen/wydarzenie/105
 8-konferencja-vii-wiosenna-konferencja-internistyczna
DTSTART:20260509T070000Z
DTEND:20260509T122100Z
LOCATION:Śląska Izba Lekarska (40-126 Katowice\, ul. Grażyńskiego 49a)
SUMMARY:konferencja 'VII Wiosenna Konferencja Internistyczna'
URL:https://izba-lekarska.org.pl/kalendarz-wydarzen/wydarzenie/1058-konfere
 ncja-vii-wiosenna-konferencja-internistyczna
END:VEVENT
END:VCALENDAR
