BEGIN:VCALENDAR
VERSION:2.0
PRODID:-//https://izba-lekarska.org.pl///NONSGML kigkonsult.se iCalcreator 2.10.15//
METHOD:PUBLISH
BEGIN:VEVENT
UID:20260419T181456CEST-4290gPdRAo@https://izba-lekarska.org.pl/
DTSTAMP:20260419T161456Z
DESCRIPTION: https://izba-lekarska.org.pl/kalendarz-wydarzen/wydarzenie/105
 9-konferencja-ix-swiatowy-dzien-lekarza-rodzinnego
DTSTART:20260516T070000Z
DTEND:20260516T112100Z
LOCATION:platforma e-learningowa ClickMeeting ()
SUMMARY:konferencja 'IX Światowy Dzień Lekarza Rodzinnego'
URL:https://izba-lekarska.org.pl/kalendarz-wydarzen/wydarzenie/1059-konfere
 ncja-ix-swiatowy-dzien-lekarza-rodzinnego
END:VEVENT
END:VCALENDAR
