BEGIN:VCALENDAR
VERSION:2.0
PRODID:-//https://izba-lekarska.org.pl///NONSGML kigkonsult.se iCalcreator 2.10.15//
METHOD:PUBLISH
BEGIN:VEVENT
UID:20260419T181414CEST-7344vG7VL9@https://izba-lekarska.org.pl/
DTSTAMP:20260419T161414Z
DESCRIPTION: https://izba-lekarska.org.pl/kalendarz-wydarzen/wydarzenie/106
 0-szkolenie-endodoncja-mikroskopowa-system-saf
DTSTART:20260521T090000Z
DTEND:20260521T130000Z
LOCATION:Śląska Izba Lekarska  ()
SUMMARY:szkolenie 'Endodoncja mikroskopowa – system SAF'
URL:https://izba-lekarska.org.pl/kalendarz-wydarzen/wydarzenie/1060-szkolen
 ie-endodoncja-mikroskopowa-system-saf
END:VEVENT
END:VCALENDAR
