BEGIN:VCALENDAR
VERSION:2.0
PRODID:-//https://izba-lekarska.org.pl///NONSGML kigkonsult.se iCalcreator 2.10.15//
METHOD:PUBLISH
BEGIN:VEVENT
UID:20260419T164057CEST-88707jHgd1@https://izba-lekarska.org.pl/
DTSTAMP:20260419T144057Z
DESCRIPTION: https://izba-lekarska.org.pl/kalendarz-wydarzen/wydarzenie/106
 1-zaburzenia-poznawcze-u-pacjentow-60-co-rozpoznac-jak-dzialac-gdzie-kiero
 wac-kluczowe-elementy-diagnostyki-i-leczenia-krok-po-kroku
DTSTART;VALUE=DATE:20260519
LOCATION:platforma e-learningowa ClickMeeting ()
SUMMARY:Zaburzenia poznawcze u pacjentów 60+ - co rozpoznać\, jak działać\,
  gdzie kierować: kluczowe elementy diagnostyki i leczenia krok po kroku
URL:https://izba-lekarska.org.pl/kalendarz-wydarzen/wydarzenie/1061-zaburze
 nia-poznawcze-u-pacjentow-60-co-rozpoznac-jak-dzialac-gdzie-kierowac-klucz
 owe-elementy-diagnostyki-i-leczenia-krok-po-kroku
END:VEVENT
END:VCALENDAR
