BEGIN:VCALENDAR
VERSION:2.0
PRODID:-//https://izba-lekarska.org.pl///NONSGML kigkonsult.se iCalcreator 2.10.15//
METHOD:PUBLISH
BEGIN:VEVENT
UID:20260419T164027CEST-9274XRr23r@https://izba-lekarska.org.pl/
DTSTAMP:20260419T144027Z
DESCRIPTION: https://izba-lekarska.org.pl/kalendarz-wydarzen/wydarzenie/106
 3-bledy-i-niepowodzenia-w-praktyce-lekarza-a-perspektywa-zastepcy-rzecznik
 a-odpowiedzialnosci-zawodowej-gdzie-sie-zaczyna-a-gdzie-konczy-odpowiedzia
 lnosc-zawodowa-lekarza
DTSTART:20260610T153000Z
DTEND:20260617T174500Z
LOCATION:platforma e-learningowa ClickMeeting ()
SUMMARY:Błędy i niepowodzenia w praktyce lekarza\, a perspektywa zastępcy r
 zecznika odpowiedzialności zawodowej. Gdzie się zaczyna\, a gdzie kończy o
 dpowiedzialność zawodowa lekarza
URL:https://izba-lekarska.org.pl/kalendarz-wydarzen/wydarzenie/1063-bledy-i
 -niepowodzenia-w-praktyce-lekarza-a-perspektywa-zastepcy-rzecznika-odpowie
 dzialnosci-zawodowej-gdzie-sie-zaczyna-a-gdzie-konczy-odpowiedzialnosc-zaw
 odowa-lekarza
END:VEVENT
END:VCALENDAR
