BEGIN:VCALENDAR
VERSION:2.0
PRODID:-//https://izba-lekarska.org.pl///NONSGML kigkonsult.se iCalcreator 2.10.15//
METHOD:PUBLISH
BEGIN:VEVENT
UID:20260419T164042CEST-9241pVn1gJ@https://izba-lekarska.org.pl/
DTSTAMP:20260419T144042Z
DESCRIPTION: https://izba-lekarska.org.pl/kalendarz-wydarzen/wydarzenie/106
 4-podstawy-zarzadzania-finansami-oszczedzania-i-inwestowania-kompaktowy-ku
 rs-dla-zapracowanych-i-poczatkujacych-lekarzy
DTSTART:20260617T153000Z
DTEND:20260617T174500Z
LOCATION:platforma e-learningowa ClickMeeting ()
SUMMARY:Podstawy zarządzania finansami\, oszczędzania  i inwestowania. Komp
 aktowy kurs dla zapracowanych i początkujących lekarzy
URL:https://izba-lekarska.org.pl/kalendarz-wydarzen/wydarzenie/1064-podstaw
 y-zarzadzania-finansami-oszczedzania-i-inwestowania-kompaktowy-kurs-dla-za
 pracowanych-i-poczatkujacych-lekarzy
END:VEVENT
END:VCALENDAR
