BEGIN:VCALENDAR
VERSION:2.0
PRODID:-//https://izba-lekarska.org.pl///NONSGML kigkonsult.se iCalcreator 2.10.15//
METHOD:PUBLISH
BEGIN:VEVENT
UID:20260421T102559CEST-4077pHfOwF@https://izba-lekarska.org.pl/
DTSTAMP:20260421T082559Z
DESCRIPTION: https://izba-lekarska.org.pl/kalendarz-wydarzen/wydarzenie/108
 4-dyzur-pelnomocnika-ds-lekarzy-z-niepelnosprawnosciami
DTSTART:20260424T110000Z
DTEND:20260424T130000Z
LOCATION:Śląska Izba Lekarska (40-126 Katowice\, ul. Grażyńskiego 49a)
SUMMARY:Dyżur Pełnomocnika ds. Lekarzy z Niepełnosprawnościami
URL:https://izba-lekarska.org.pl/kalendarz-wydarzen/wydarzenie/1084-dyzur-p
 elnomocnika-ds-lekarzy-z-niepelnosprawnosciami
END:VEVENT
END:VCALENDAR
