BEGIN:VCALENDAR
VERSION:2.0
PRODID:-//https://izba-lekarska.org.pl///NONSGML kigkonsult.se iCalcreator 2.10.15//
METHOD:PUBLISH
BEGIN:VEVENT
UID:20260419T221448CEST-3666VzwNt5@https://izba-lekarska.org.pl/
DTSTAMP:20260419T201448Z
DESCRIPTION: https://izba-lekarska.org.pl/kalendarz-wydarzen/wydarzenie/519
 -posiedzenie-komisji-ds-ksztalcenia-podyplomowego
DTSTART:20230417T133000Z
DTEND:20230417T153000Z
LOCATION:Śląska Izba Lekarska (40-126 Katowice\, ul. Grażyńskiego 49a)
SUMMARY:Posiedzenie Komisji ds. Kształcenia Podyplomowego
URL:https://izba-lekarska.org.pl/kalendarz-wydarzen/wydarzenie/519-posiedze
 nie-komisji-ds-ksztalcenia-podyplomowego
END:VEVENT
END:VCALENDAR
