BEGIN:VCALENDAR
VERSION:2.0
PRODID:-//https://izba-lekarska.org.pl///NONSGML kigkonsult.se iCalcreator 2.10.15//
METHOD:PUBLISH
BEGIN:VEVENT
UID:20260420T000142CEST-8950m1Dk3h@https://izba-lekarska.org.pl/
DTSTAMP:20260419T220142Z
DESCRIPTION: https://izba-lekarska.org.pl/kalendarz-wydarzen/wydarzenie/549
 -posiedzenie-komisji-ds-ksztalcenia-podyplomowego
DTSTART:20230904T133000Z
DTEND:20230904T153000Z
LOCATION:Śląska Izba Lekarska (40-126 Katowice\, ul. Grażyńskiego 49a)
SUMMARY:Posiedzenie Komisji ds. Kształcenia Podyplomowego
URL:https://izba-lekarska.org.pl/kalendarz-wydarzen/wydarzenie/549-posiedze
 nie-komisji-ds-ksztalcenia-podyplomowego
END:VEVENT
END:VCALENDAR
