BEGIN:VCALENDAR
VERSION:2.0
PRODID:-//https://izba-lekarska.org.pl///NONSGML kigkonsult.se iCalcreator 2.10.15//
METHOD:PUBLISH
BEGIN:VEVENT
UID:20260419T220809CEST-0724NbiP30@https://izba-lekarska.org.pl/
DTSTAMP:20260419T200809Z
DESCRIPTION: https://izba-lekarska.org.pl/kalendarz-wydarzen/wydarzenie/650
 -posiedzenie-komisji-ds-ksztalcenia-podyplomowego
DTSTART:20240115T143000Z
DTEND:20240115T163000Z
LOCATION:Śląska Izba Lekarska (40-126 Katowice\, ul. Grażyńskiego 49a)
SUMMARY:Posiedzenie Komisji ds. Kształcenia Podyplomowego
URL:https://izba-lekarska.org.pl/kalendarz-wydarzen/wydarzenie/650-posiedze
 nie-komisji-ds-ksztalcenia-podyplomowego
END:VEVENT
END:VCALENDAR
