BEGIN:VCALENDAR
VERSION:2.0
PRODID:-//https://izba-lekarska.org.pl///NONSGML kigkonsult.se iCalcreator 2.10.15//
METHOD:PUBLISH
BEGIN:VEVENT
UID:20260421T104240CEST-0747V4Z3rS@https://izba-lekarska.org.pl/
DTSTAMP:20260421T084240Z
DESCRIPTION: https://izba-lekarska.org.pl/kalendarz-wydarzen/wydarzenie/762
 -posiedzenie-komisji-bioetycznej
DTSTART:20241014T140000Z
DTEND:20241014T160000Z
LOCATION:Śląska Izba Lekarska (40-126 Katowice\, ul. Grażyńskiego 49a)
SUMMARY:Posiedzenie Komisji Bioetycznej
URL:https://izba-lekarska.org.pl/kalendarz-wydarzen/wydarzenie/762-posiedze
 nie-komisji-bioetycznej
END:VEVENT
END:VCALENDAR
