BEGIN:VCALENDAR
VERSION:2.0
PRODID:-//https://izba-lekarska.org.pl///NONSGML kigkonsult.se iCalcreator 2.10.15//
METHOD:PUBLISH
BEGIN:VEVENT
UID:20260419T172331CEST-48553Vzs8g@https://izba-lekarska.org.pl/
DTSTAMP:20260419T152331Z
DESCRIPTION: https://izba-lekarska.org.pl/kalendarz-wydarzen/wydarzenie/765
 -posiedzenie-komisji-bioetycznej
DTSTART:20241104T150000Z
DTEND:20241104T170000Z
LOCATION:Śląska Izba Lekarska (40-126 Katowice\, ul. Grażyńskiego 49a)
SUMMARY:Posiedzenie Komisji Bioetycznej
URL:https://izba-lekarska.org.pl/kalendarz-wydarzen/wydarzenie/765-posiedze
 nie-komisji-bioetycznej
END:VEVENT
END:VCALENDAR
