BEGIN:VCALENDAR
VERSION:2.0
PRODID:-//https://izba-lekarska.org.pl///NONSGML kigkonsult.se iCalcreator 2.10.15//
METHOD:PUBLISH
BEGIN:VEVENT
UID:20260419T233826CEST-2341uhdAXW@https://izba-lekarska.org.pl/
DTSTAMP:20260419T213826Z
DESCRIPTION: https://izba-lekarska.org.pl/kalendarz-wydarzen/wydarzenie/794
 -posiedzenie-komisji-ksztalcenia-podyplomowego
DTSTART:20250113T143000Z
DTEND:20250113T163000Z
LOCATION:Śląska Izba Lekarska (40-126 Katowice\, ul. Grażyńskiego 49a)
SUMMARY:Posiedzenie Komisji Kształcenia Podyplomowego
URL:https://izba-lekarska.org.pl/kalendarz-wydarzen/wydarzenie/794-posiedze
 nie-komisji-ksztalcenia-podyplomowego
END:VEVENT
END:VCALENDAR
