BEGIN:VCALENDAR
VERSION:2.0
PRODID:-//https://izba-lekarska.org.pl///NONSGML kigkonsult.se iCalcreator 2.10.15//
METHOD:PUBLISH
BEGIN:VEVENT
UID:20260419T163926CEST-9747ZWiulN@https://izba-lekarska.org.pl/
DTSTAMP:20260419T143926Z
DESCRIPTION: https://izba-lekarska.org.pl/kalendarz-wydarzen/wydarzenie/798
 -wyklad-lutw
DTSTART:20250109T110000Z
DTEND:20250109T133000Z
LOCATION:Śląska Izba Lekarska (40-126 Katowice\, ul. Grażyńskiego 49a)
SUMMARY:Wykład LUTW
URL:https://izba-lekarska.org.pl/kalendarz-wydarzen/wydarzenie/798-wyklad-l
 utw
END:VEVENT
END:VCALENDAR
