BEGIN:VCALENDAR
VERSION:2.0
PRODID:-//https://izba-lekarska.org.pl///NONSGML kigkonsult.se iCalcreator 2.10.15//
METHOD:PUBLISH
BEGIN:VEVENT
UID:20260419T233852CEST-3514XeEvzj@https://izba-lekarska.org.pl/
DTSTAMP:20260419T213852Z
DESCRIPTION: https://izba-lekarska.org.pl/kalendarz-wydarzen/wydarzenie/848
 -posiedzenie-komisji-ksztalcenia-podyplomowego
DTSTART:20250210T143000Z
DTEND:20250210T170000Z
LOCATION:Śląska Izba Lekarska (40-126 Katowice\, ul. Grażyńskiego 49a)
SUMMARY:Posiedzenie Komisji Kształcenia Podyplomowego
URL:https://izba-lekarska.org.pl/kalendarz-wydarzen/wydarzenie/848-posiedze
 nie-komisji-ksztalcenia-podyplomowego
END:VEVENT
END:VCALENDAR
