BEGIN:VCALENDAR
VERSION:2.0
PRODID:-//https://izba-lekarska.org.pl///NONSGML kigkonsult.se iCalcreator 2.10.15//
METHOD:PUBLISH
BEGIN:VEVENT
UID:20260420T023145CEST-8716PnDhT3@https://izba-lekarska.org.pl/
DTSTAMP:20260420T003145Z
DESCRIPTION: https://izba-lekarska.org.pl/kalendarz-wydarzen/wydarzenie/855
 -v-bal-karnawalowy-ii-termin
DTSTART:20250208T160000Z
DTEND:20250208T180000Z
LOCATION:Nibylandia (Pawła Kołodzieja 44\, 40-749\, Górne Lasy Pszczyńskie\
 , Katowice\, Śląskie)
SUMMARY:V Bal Karnawałowy II termin
URL:https://izba-lekarska.org.pl/kalendarz-wydarzen/wydarzenie/855-v-bal-ka
 rnawalowy-ii-termin
END:VEVENT
END:VCALENDAR
