BEGIN:VCALENDAR
VERSION:2.0
PRODID:-//https://izba-lekarska.org.pl///NONSGML kigkonsult.se iCalcreator 2.10.15//
METHOD:PUBLISH
BEGIN:VEVENT
UID:20260419T172638CEST-1579vCbale@https://izba-lekarska.org.pl/
DTSTAMP:20260419T152638Z
DESCRIPTION: https://izba-lekarska.org.pl/kalendarz-wydarzen/wydarzenie/867
 -posiedzenie-komisji-bioetycznej
DTSTART:20250331T140000Z
DTEND:20250331T163000Z
LOCATION:Śląska Izba Lekarska (40-126 Katowice\, ul. Grażyńskiego 49a)
SUMMARY:Posiedzenie Komisji Bioetycznej
URL:https://izba-lekarska.org.pl/kalendarz-wydarzen/wydarzenie/867-posiedze
 nie-komisji-bioetycznej
END:VEVENT
END:VCALENDAR
