BEGIN:VCALENDAR
VERSION:2.0
PRODID:-//https://izba-lekarska.org.pl///NONSGML kigkonsult.se iCalcreator 2.10.15//
METHOD:PUBLISH
BEGIN:VEVENT
UID:20260419T164720CEST-9730cUOZ4C@https://izba-lekarska.org.pl/
DTSTAMP:20260419T144720Z
DESCRIPTION: https://izba-lekarska.org.pl/kalendarz-wydarzen/wydarzenie/872
 -wyklad-lutw-lek-przed-samotnoscia
DTSTART:20250304T110000Z
DTEND:20250304T140000Z
LOCATION:Śląska Izba Lekarska (40-126 Katowice\, ul. Grażyńskiego 49a)
SUMMARY:Wykład LUTW 'Lęk przed samotnością'
URL:https://izba-lekarska.org.pl/kalendarz-wydarzen/wydarzenie/872-wyklad-l
 utw-lek-przed-samotnoscia
END:VEVENT
END:VCALENDAR
