BEGIN:VCALENDAR
VERSION:2.0
PRODID:-//https://izba-lekarska.org.pl///NONSGML kigkonsult.se iCalcreator 2.10.15//
METHOD:PUBLISH
BEGIN:VEVENT
UID:20260421T132051CEST-7024HD4kvH@https://izba-lekarska.org.pl/
DTSTAMP:20260421T112051Z
DESCRIPTION: https://izba-lekarska.org.pl/kalendarz-wydarzen/wydarzenie/873
 -wyklad-lutw-bezpieczne-przyjmowanie-lekow-i-suplementow-diety-interakcje-
 z-zywnoscia
DTSTART:20250313T110000Z
DTEND:20250313T140000Z
LOCATION:Śląska Izba Lekarska (40-126 Katowice\, ul. Grażyńskiego 49a)
SUMMARY:Wykład LUTW: 'Bezpieczne przyjmowanie leków i suplementów diety (in
 terakcje z żywnością)'
URL:https://izba-lekarska.org.pl/kalendarz-wydarzen/wydarzenie/873-wyklad-l
 utw-bezpieczne-przyjmowanie-lekow-i-suplementow-diety-interakcje-z-zywnosc
 ia
END:VEVENT
END:VCALENDAR
