BEGIN:VCALENDAR
VERSION:2.0
PRODID:-//https://izba-lekarska.org.pl///NONSGML kigkonsult.se iCalcreator 2.10.15//
METHOD:PUBLISH
BEGIN:VEVENT
UID:20260419T164646CEST-82292t7gV9@https://izba-lekarska.org.pl/
DTSTAMP:20260419T144646Z
DESCRIPTION: https://izba-lekarska.org.pl/kalendarz-wydarzen/wydarzenie/899
 -wyklad-lutw-bezpieczenstwo-w-internecie
DTSTART:20250424T100000Z
DTEND:20250424T130000Z
LOCATION:Śląska Izba Lekarska (40-126 Katowice\, ul. Grażyńskiego 49a)
SUMMARY:Wykład LUTW 'Bezpieczeństwo w Internecie'
URL:https://izba-lekarska.org.pl/kalendarz-wydarzen/wydarzenie/899-wyklad-l
 utw-bezpieczenstwo-w-internecie
END:VEVENT
END:VCALENDAR
