BEGIN:VCALENDAR
VERSION:2.0
PRODID:-//https://izba-lekarska.org.pl///NONSGML kigkonsult.se iCalcreator 2.10.15//
METHOD:PUBLISH
BEGIN:VEVENT
UID:20260421T134317CEST-7115WSuX8e@https://izba-lekarska.org.pl/
DTSTAMP:20260421T114317Z
DESCRIPTION: https://izba-lekarska.org.pl/kalendarz-wydarzen/wydarzenie/903
 -wyklad-lutw-niedosluch-szumy-uszne-zawroty-glowy-zwiazane-z-wiekiem
DTSTART:20250626T100000Z
DTEND:20250626T130000Z
LOCATION:Śląska Izba Lekarska (40-126 Katowice\, ul. Grażyńskiego 49a)
SUMMARY:Wykład LUTW 'Niedosłuch\, szumy uszne\, zawroty głowy związane z wi
 ekiem'
URL:https://izba-lekarska.org.pl/kalendarz-wydarzen/wydarzenie/903-wyklad-l
 utw-niedosluch-szumy-uszne-zawroty-glowy-zwiazane-z-wiekiem
END:VEVENT
END:VCALENDAR
