BEGIN:VCALENDAR
VERSION:2.0
PRODID:-//https://izba-lekarska.org.pl///NONSGML kigkonsult.se iCalcreator 2.10.15//
METHOD:PUBLISH
BEGIN:VEVENT
UID:20260419T203919CEST-2605TXf6vh@https://izba-lekarska.org.pl/
DTSTAMP:20260419T183919Z
DESCRIPTION: https://izba-lekarska.org.pl/kalendarz-wydarzen/wydarzenie/905
 -dyzur-pelnomocnika-ds-lekarzy-z-niepelnosprawnosciami
DTSTART:20250415T120000Z
DTEND:20250415T140000Z
LOCATION:Śląska Izba Lekarska (40-126 Katowice\, ul. Grażyńskiego 49a)
SUMMARY:Dyżur Pełnomocnika ds. Lekarzy z Niepełnosprawnościami
URL:https://izba-lekarska.org.pl/kalendarz-wydarzen/wydarzenie/905-dyzur-pe
 lnomocnika-ds-lekarzy-z-niepelnosprawnosciami
END:VEVENT
END:VCALENDAR
