BEGIN:VCALENDAR
VERSION:2.0
PRODID:-//https://izba-lekarska.org.pl///NONSGML kigkonsult.se iCalcreator 2.10.15//
METHOD:PUBLISH
BEGIN:VEVENT
UID:20260419T173134CEST-9805fNjDuP@https://izba-lekarska.org.pl/
DTSTAMP:20260419T153134Z
DESCRIPTION: https://izba-lekarska.org.pl/kalendarz-wydarzen/wydarzenie/931
 -posiedzenie-komisji-bioetycznej
DTSTART:20250623T140000Z
DTEND:20250623T163000Z
LOCATION:Śląska Izba Lekarska (40-126 Katowice\, ul. Grażyńskiego 49a)
SUMMARY:Posiedzenie Komisji Bioetycznej
URL:https://izba-lekarska.org.pl/kalendarz-wydarzen/wydarzenie/931-posiedze
 nie-komisji-bioetycznej
END:VEVENT
END:VCALENDAR
