BEGIN:VCALENDAR
VERSION:2.0
PRODID:-//https://izba-lekarska.org.pl///NONSGML kigkonsult.se iCalcreator 2.10.15//
METHOD:PUBLISH
BEGIN:VEVENT
UID:20260421T122109CEST-4716aJD534@https://izba-lekarska.org.pl/
DTSTAMP:20260421T102109Z
DESCRIPTION: https://izba-lekarska.org.pl/kalendarz-wydarzen/wydarzenie/962
 -lutw-katowiccy-tiele-wincklerowie-dr-n-hum-arkadiusz-kuzio-podrucki
DTSTART:20251030T110000Z
DTEND:20251030T123000Z
LOCATION:Śląska Izba Lekarska (40-126 Katowice\, ul. Grażyńskiego 49a)
SUMMARY:LUTW: 'Katowiccy Tiele-Wincklerowie - dr n. hum. Arkadiusz Kuzio - 
 Podrucki'
URL:https://izba-lekarska.org.pl/kalendarz-wydarzen/wydarzenie/962-lutw-kat
 owiccy-tiele-wincklerowie-dr-n-hum-arkadiusz-kuzio-podrucki
END:VEVENT
END:VCALENDAR
