BEGIN:VCALENDAR
VERSION:2.0
PRODID:-//https://izba-lekarska.org.pl///NONSGML kigkonsult.se iCalcreator 2.10.15//
METHOD:PUBLISH
BEGIN:VEVENT
UID:20260421T132113CEST-9061xZXbOD@https://izba-lekarska.org.pl/
DTSTAMP:20260421T112113Z
DESCRIPTION: https://izba-lekarska.org.pl/kalendarz-wydarzen/wydarzenie/980
 -posiedzenie-prezydium-okregowej-rady-lekarskiej-w-katowicach
DTSTART:20260204T123000Z
DTEND:20260204T143000Z
LOCATION:Śląska Izba Lekarska (40-126 Katowice\, ul. Grażyńskiego 49a)
SUMMARY:Posiedzenie Prezydium Okręgowej Rady Lekarskiej w Katowicach
URL:https://izba-lekarska.org.pl/kalendarz-wydarzen/wydarzenie/980-posiedze
 nie-prezydium-okregowej-rady-lekarskiej-w-katowicach
END:VEVENT
END:VCALENDAR
