BEGIN:VCALENDAR
VERSION:2.0
PRODID:-//https://izba-lekarska.org.pl///NONSGML kigkonsult.se iCalcreator 2.10.15//
METHOD:PUBLISH
BEGIN:VEVENT
UID:20260421T115948CEST-6564nVFrWw@https://izba-lekarska.org.pl/
DTSTAMP:20260421T095948Z
DESCRIPTION: https://izba-lekarska.org.pl/kalendarz-wydarzen/wydarzenie/983
 -posiedzenie-prezydium-okregowej-rady-lekarskiej-w-katowicach
DTSTART:20260304T123000Z
DTEND:20260304T143000Z
LOCATION:Śląska Izba Lekarska (40-126 Katowice\, ul. Grażyńskiego 49a)
SUMMARY:Posiedzenie Prezydium Okręgowej Rady Lekarskiej w Katowicach
URL:https://izba-lekarska.org.pl/kalendarz-wydarzen/wydarzenie/983-posiedze
 nie-prezydium-okregowej-rady-lekarskiej-w-katowicach
END:VEVENT
END:VCALENDAR
