BEGIN:VCALENDAR
VERSION:2.0
PRODID:-//https://izba-lekarska.org.pl///NONSGML kigkonsult.se iCalcreator 2.10.15//
METHOD:PUBLISH
BEGIN:VEVENT
UID:20260419T163925CEST-0853ooWiKW@https://izba-lekarska.org.pl/
DTSTAMP:20260419T143925Z
DESCRIPTION: https://izba-lekarska.org.pl/kalendarz-wydarzen/wydarzenie/994
 -kurs-doskonalacy-usg-jamy-brzusznej-dla-poczatkujacych-i-praktykujacych
DTSTART:20260130T160000Z
DTEND:20260131T173000Z
LOCATION:Śląska Izba Lekarska (40-126 Katowice\, ul. Grażyńskiego 49a)
SUMMARY:kurs doskonalący - USG jamy brzusznej dla początkujących i praktyku
 jących
URL:https://izba-lekarska.org.pl/kalendarz-wydarzen/wydarzenie/994-kurs-dos
 konalacy-usg-jamy-brzusznej-dla-poczatkujacych-i-praktykujacych
END:VEVENT
END:VCALENDAR
