BEGIN:VCALENDAR
VERSION:2.0
PRODID:-//https://izba-lekarska.org.pl///NONSGML kigkonsult.se iCalcreator 2.10.15//
METHOD:PUBLISH
BEGIN:VEVENT
UID:20260419T163924CEST-947083TU56@https://izba-lekarska.org.pl/
DTSTAMP:20260419T143924Z
DESCRIPTION: https://izba-lekarska.org.pl/kalendarz-wydarzen/wydarzenie/996
 -kurs-doskonalacy-leczenie-biologiczne-miazgi-czyli-jak-uniknac-leczenia-k
 analowego
DTSTART:20260207T090000Z
DTEND:20260207T130000Z
LOCATION:Śląska Izba Lekarska (40-126 Katowice\, ul. Grażyńskiego 49a)
SUMMARY:kurs doskonalący - Leczenie biologiczne miazgi czyli jak uniknąć le
 czenia kanałowego
URL:https://izba-lekarska.org.pl/kalendarz-wydarzen/wydarzenie/996-kurs-dos
 konalacy-leczenie-biologiczne-miazgi-czyli-jak-uniknac-leczenia-kanalowego
END:VEVENT
END:VCALENDAR
