BEGIN:VCALENDAR
VERSION:2.0
PRODID:-//https://izba-lekarska.org.pl///NONSGML kigkonsult.se iCalcreator 2.10.15//
METHOD:PUBLISH
BEGIN:VEVENT
UID:20260419T163306CEST-7363uiAljj@https://izba-lekarska.org.pl/
DTSTAMP:20260419T143306Z
DESCRIPTION: https://izba-lekarska.org.pl/kalendarz-wydarzen/wydarzenie/999
 -kurs-doskonalacy-nvc-podstawy-komunikacji-bez-przemocy-dla-lekarzy-warszt
 aty-praktyczne
DTSTART:20260307T090000Z
DTEND:20260307T130000Z
LOCATION:Śląska Izba Lekarska (40-126 Katowice\, ul. Grażyńskiego 49a)
SUMMARY:kurs doskonalący - NVC – podstawy komunikacji bez przemocy dla leka
 rzy – warsztaty praktyczne
URL:https://izba-lekarska.org.pl/kalendarz-wydarzen/wydarzenie/999-kurs-dos
 konalacy-nvc-podstawy-komunikacji-bez-przemocy-dla-lekarzy-warsztaty-prakt
 yczne
END:VEVENT
END:VCALENDAR
